BEGIN:VCALENDAR
VERSION:2.0
PRODID:-//Safire Rose - ECPv6.15.20//NONSGML v1.0//EN
CALSCALE:GREGORIAN
METHOD:PUBLISH
X-ORIGINAL-URL:https://safire-rose.com
X-WR-CALDESC:Events for Safire Rose
REFRESH-INTERVAL;VALUE=DURATION:PT1H
X-Robots-Tag:noindex
X-PUBLISHED-TTL:PT1H
BEGIN:VTIMEZONE
TZID:America/Los_Angeles
BEGIN:DAYLIGHT
TZOFFSETFROM:-0800
TZOFFSETTO:-0700
TZNAME:PDT
DTSTART:20170312T100000
END:DAYLIGHT
BEGIN:STANDARD
TZOFFSETFROM:-0700
TZOFFSETTO:-0800
TZNAME:PST
DTSTART:20171105T090000
END:STANDARD
BEGIN:DAYLIGHT
TZOFFSETFROM:-0800
TZOFFSETTO:-0700
TZNAME:PDT
DTSTART:20180311T100000
END:DAYLIGHT
BEGIN:STANDARD
TZOFFSETFROM:-0700
TZOFFSETTO:-0800
TZNAME:PST
DTSTART:20181104T090000
END:STANDARD
BEGIN:DAYLIGHT
TZOFFSETFROM:-0800
TZOFFSETTO:-0700
TZNAME:PDT
DTSTART:20190310T100000
END:DAYLIGHT
BEGIN:STANDARD
TZOFFSETFROM:-0700
TZOFFSETTO:-0800
TZNAME:PST
DTSTART:20191103T090000
END:STANDARD
END:VTIMEZONE
BEGIN:VEVENT
DTSTART;TZID=America/Los_Angeles:20180929T090000
DTEND;TZID=America/Los_Angeles:20180929T100000
DTSTAMP:20260423T065333
CREATED:20180829T043855Z
LAST-MODIFIED:20180829T043855Z
UID:6028-1538211600-1538215200@safire-rose.com
SUMMARY:Be In the Flow of the Let-Go: Poetry Reading of "She Let Go" and Discussion By Safire Rose
DESCRIPTION:In celebration of my birthday month\, on Saturday\, September 29\, 2018\, at 9:00 AM Pacific Time\, I will be having my inaugural teleconference call where I will be reading my poem\, “She Let Go\,” discussing the letting go process\, and coaching a couple of individual callers.\n\nFurther details about the call will be forwarded to you upon your PayPal purchase\, below.\n\nI look forward to our time together.\n  \nBe in the Flow of the Let Go01Be in the Flow of the Let Go22.00 USDTeleconference Poetry Reading and DiscussionYour eTicket will be emailed after payment to your PayPal email address.\n  \n 
URL:https://safire-rose.com/event/be-in-the-flow-of-the-let-go-poetry-reading-of-she-let-go-and-discussion-by-safire-rose
END:VEVENT
BEGIN:VEVENT
DTSTART;TZID=America/Los_Angeles:20180317T113000
DTEND;TZID=America/Los_Angeles:20180317T130000
DTSTAMP:20260423T065333
CREATED:20180125T021329Z
LAST-MODIFIED:20180303T053352Z
UID:4956-1521286200-1521291600@safire-rose.com
SUMMARY:"Spiritual Spring Cleaning and Renewal: How to Let Go of Mental Debris and Let the Light of Love Shine Through Us."
DESCRIPTION:Please join me at Mystic Journey Bookstore in Los Angeles\, CA on March 17\, 2018\, at 11:30 AM for my workshop:  \n“Spiritual Spring Cleaning and Renewal: How to Let Go of Mental Debris\, and Let the Light of Love Shine Through Us.” \nOften\, we honor spring cleaning by tending to the physical clutter in our lives while ignoring the mental debris we hang on to.  During this spiritual spring cleaning and renewal workshop\, we will harness the seasonal energy of springtime to explore\, identify\, and release negative mental patterns\, and open our hearts to express the light of love within us. This workshop will explore timeless spiritual principles that will help us to release old thought patterns and will utilize spiritual practices to assist us in embodying and expressing the light of love within us. Why not enjoy a spiritual spring cleaning\, and bring a lighter\, freer\, you to every area of your life? \nI look forward to working and playing together\, as we spring clean our lives to live and express a greater love in each moment. -Safire \n  \n01234567891011121314151617181920212223242526272829303132333435363738394041424344454647484950General Admission20.00 USDPlease select the number of tickets to buy\, before clicking the Buy Now button. Your eTicket will be emailed after payment to your PayPal email address.
URL:https://safire-rose.com/event/a-spiritual-spring-cleaning-workshop
LOCATION:Mystic Journey Bookstore\, 1624 Abbot Kinney Boulevard\, Los Angleles\, CA\, 90291\, United States
END:VEVENT
END:VCALENDAR